BEGIN:VCALENDAR
VERSION:2.0
PRODID:-//Vacation Rentals - ECPv4.1.4//NONSGML v1.0//EN
CALSCALE:GREGORIAN
METHOD:PUBLISH
X-WR-CALNAME:Vacation Rentals
X-ORIGINAL-URL:http://www.rentbyself.com
X-WR-CALDESC:Events for Vacation Rentals
BEGIN:VEVENT
DTSTART;VALUE=DATE:20160701
DTEND;VALUE=DATE:20160704
DTSTAMP:20260423T122145
CREATED:20160527
LAST-MODIFIED:20160527
UID:3304-1467331200-1467676799@www.rentbyself.com
SUMMARY:4th of July Celebration
DESCRIPTION:JULY 1 - 4\n\n"Fun" means something different to everyone. For some\, it's exploring mountain trails. For others\, it's taking the kids to the nearby Cedar Breaks National Monument. And for others\, it's live music and beer. Brian Head Resort will be bursting at the seams with fun stuff for every inclination this Independence Day! \n\nBrian Head Resort Independence Day Fun and Games Extravaganza! Bring the whole family for a fun day on the mountain! There will be music\, food\, beer\, booths\, kettle corn\, mountain biking\, hiking and so many more activities! Not be missed\, Brian Head Resort will also have an epic firework celebration to end the day also! Our fireworks have been impressing audiences for over 10 years! So come up and enjoy all we have to offer!\n
URL:http://www.rentbyself.com/event/4th-of-july-celebration/
LOCATION:329 South Highway 143\, Brian Head\, 84719\, United States
CATEGORIES:Brian Head
ATTACH;FMTTYPE=image/jpeg:http://www.rentbyself.com/wp-content/uploads/2016/05/BH-Resort-4th-of-July.jpg
END:VEVENT
END:VCALENDAR