BEGIN:VCALENDAR
VERSION:2.0
PRODID:-//Vacation Rentals - ECPv4.1.4//NONSGML v1.0//EN
CALSCALE:GREGORIAN
METHOD:PUBLISH
X-WR-CALNAME:Vacation Rentals
X-ORIGINAL-URL:http://www.rentbyself.com
X-WR-CALDESC:Events for Vacation Rentals
BEGIN:VEVENT
DTSTART;VALUE=DATE:20160716
DTEND;VALUE=DATE:20160716
DTSTAMP:20260425T112346
CREATED:20160527
LAST-MODIFIED:20160527
UID:3313-1468627200-1468713599@www.rentbyself.com
SUMMARY:BBQ Blues & Brews
DESCRIPTION:2nd Annual BBQ\, BLUES\, & BREWS!\nJULY 16\n\nThe Meats Have Been Marinated; The Cookers Fired & Stoked!\nMouth watering ribs\, chicken\, brisket and pork\, masterfully marinated and seasoned\, then smoked for hours to the point of perfection. This ain't just grilling\, this is art! Who will be the Champion? Watch as some of the best pit men in Southern Utah line up ready to do battle\, apron to apron. Cooking on steel smokers the size of small cars!\n\nThink you have what it takes to win the competition? Winners will walk away with some sweet cash prizes and medals\, along with the title as best BBQ on the mountain! \n\nCompetition\n2 Meats- Chicken & Ribs - To be judged by a panel of 6 Judges\nOptional - 1 Side Dish - Example - Beans\, Cornbread\, Potatoes\, Coleslaw etc...\nOptional - People's Choice Competition - ($25 Buy in) Pork Butt supplied by BHR - Judged by the public\nJudged On: Best Appearance\, Best Taste\, Best Texture \n\nEvent Information\nWhen: July 16\, 2016\nWhere: Brian Head Resort\, Brian Head\, UT\nContact: Ron Burgess with any questions 951-537-8577\n$50 Entry Fee - For Contestants Only | Free For Spectators \nTeams - Chef plus staff with up to 5 assistants
URL:http://www.rentbyself.com/event/bbq-blues-brews/
CATEGORIES:Brian Head
ATTACH;FMTTYPE=image/jpeg:http://www.rentbyself.com/wp-content/uploads/2016/05/BBQ-Blues-and-Blues.jpg
END:VEVENT
END:VCALENDAR