BEGIN:VCALENDAR
VERSION:2.0
PRODID:-//Vacation Rentals - ECPv4.1.4//NONSGML v1.0//EN
CALSCALE:GREGORIAN
METHOD:PUBLISH
X-WR-CALNAME:Vacation Rentals
X-ORIGINAL-URL:http://www.rentbyself.com
X-WR-CALDESC:Events for Vacation Rentals
BEGIN:VEVENT
DTSTART;VALUE=DATE:20160611
DTEND;VALUE=DATE:20160611
DTSTAMP:20260423T122408
CREATED:20160527
LAST-MODIFIED:20160527
UID:3325-1465603200-1465689599@www.rentbyself.com
SUMMARY:Chamber Car Show
DESCRIPTION:Event Date: June 11\, 2016\nEvent Time: 10:00 a.m.\nPAROWAN CHAMBER OF COMMERCE CAR SHOW\n\nJUNE 11\, 2016 – CITY SQUARE/LIBRARY PARK
URL:http://www.rentbyself.com/event/chamber-car-show/
ATTACH;FMTTYPE=image/jpeg:http://www.rentbyself.com/wp-content/uploads/2016/05/Car-Show-1.jpg
END:VEVENT
END:VCALENDAR