BEGIN:VCALENDAR
VERSION:2.0
PRODID:-//Vacation Rentals - ECPv4.1.4//NONSGML v1.0//EN
CALSCALE:GREGORIAN
METHOD:PUBLISH
X-WR-CALNAME:Vacation Rentals
X-ORIGINAL-URL:http://www.rentbyself.com
X-WR-CALDESC:Events for Vacation Rentals
BEGIN:VEVENT
DTSTART;VALUE=DATE:20160806
DTEND;VALUE=DATE:20160806
DTSTAMP:20260423T122531
CREATED:20160527
LAST-MODIFIED:20160527
UID:3318-1470441600-1470527999@www.rentbyself.com
SUMMARY:Festival of Flavors
DESCRIPTION:Brian Head Resort Festival Of Flavors\nAUGUST 6\n\nFestival of Flavors is a fusion of music\, friends\, great views and premiere brews! Come enjoy Utah's finest breweries\, wineries and distilleries while enjoying live entertainment! The Festival of Flavors is your opportunity to taste regional wines\, sample gourmet cheese and enjoy life! Local artisan vendors will be there too! Kid-friendly activities include mix flavored sodas! Need even another reason to come up? We will also have scenic chairlift rides\, disc golf\, mountain biking\, rock climbing wall and other activities available during the event. Along with the drinks\, activities\, entertainment and food\, guests will be able to vote on their preferred drink! \n\nEnjoy Taste From:\nWasatch Brewery\nOgdens Own Distillery\nIron Gate Winery\nAnd Many More!! \n\nLive Music Schedule & More Event Details To Come! 
URL:http://www.rentbyself.com/event/festival-of-flavors/
CATEGORIES:Brian Head
ATTACH;FMTTYPE=image/jpeg:http://www.rentbyself.com/wp-content/uploads/2016/05/Festival-of-Flavors.jpg
END:VEVENT
END:VCALENDAR