BEGIN:VCALENDAR
VERSION:2.0
PRODID:-//Vacation Rentals - ECPv4.1.4//NONSGML v1.0//EN
CALSCALE:GREGORIAN
METHOD:PUBLISH
X-WR-CALNAME:Vacation Rentals
X-ORIGINAL-URL:http://www.rentbyself.com
X-WR-CALDESC:Events for Vacation Rentals
BEGIN:VEVENT
DTSTART;VALUE=DATE:20160813
DTEND;VALUE=DATE:20160814
DTSTAMP:20260423T122409
CREATED:20160527
LAST-MODIFIED:20160527
UID:3320-1471046400-1471219199@www.rentbyself.com
SUMMARY:Flyin Brian Races
DESCRIPTION:2016 Flyin Brian Mountain Bike Races\nAUGUST 13 & 14\n\nThe Go-Ride Gravity Series offers some of America's best gravity racing! \n\nDownhill Mountain Bike enthusiasts are offered the perfect conditions for downhill racing on Brian Head Resort’s terrain and can compete against one another all weekend! The top three racers in each division will receive awards at the conclusion of each race as well as the conclusion of the entire series\, based on cumulative points. An after party and awards ceremony will be hosted at the Last Chair Saloon!
URL:http://www.rentbyself.com/event/flyin-brian-races/
CATEGORIES:Brian Head
ATTACH;FMTTYPE=image/jpeg:http://www.rentbyself.com/wp-content/uploads/2016/05/Bike-Races.jpg
END:VEVENT
END:VCALENDAR